BEGIN:VCALENDAR
VERSION:2.0
PRODID:-//wp-events-plugin.com//7.2.3.1//EN
TZID:Europe/London
X-WR-TIMEZONE:Europe/London
BEGIN:VEVENT
UID:65787@gostargazing.co.uk
DTSTART;TZID=Europe/London:20260512T120000
DTEND;TZID=Europe/London:20260521T120000
DTSTAMP:20251206T133733Z
URL:https://gostargazing.co.uk/events/cornwall-astrophotography-workshop-w
 ith-cherrie-photography/
SUMMARY:Cornwall Astrophotography Workshop with Cherrie Photography
DESCRIPTION:Astrophotographer Aaron Cherrie leads immersive Milky Way astro
 photography workshops in 2026 under Cornwall’s darkest skies. \n\nSuitab
 le for beginners and intermediate photographers\, the sessions cover plann
 ing with PhotoPills and Stellarium\, mastering core camera settings\, and 
 capturing the Milky Way\, star trails\, timelapses\, and lunar alignments.
  \n\nParticipants also receive guidance on tracking mounts\, stacking\, an
 d post-processing in Lightroom and Photoshop\, along with dedicated lunar-
 alignment sessions. \n\nWorkshops run year-round\, with Milky Way shoots o
 ffered March–October\, and take place at carefully selected dark-sky loc
 ations across Cornwall\, chosen according to weather and visibility.
ATTACH;FMTTYPE=image/jpeg:https://gostargazing.co.uk/wp-content/uploads/20
 25/12/Lanyon-Quoit-By-Aaron-Cherrie.jpg
CATEGORIES:Astrophotography
LOCATION:Lanyon Quoit\, Madron\, Penzance\, Cornwall\, TR20 8NY\, South Wes
 t England\, United Kingdom
GEO:50.147329;-5.599031
X-APPLE-STRUCTURED-LOCATION;VALUE=URI;X-ADDRESS=Madron\, Penzance\, Cornwal
 l\, TR20 8NY\, South West England\, United Kingdom;X-APPLE-RADIUS=100;X-TI
 TLE=Lanyon Quoit:geo:50.147329,-5.599031
ORGANIZER;CN="Cherrie Photography":MAILTO:cherriephotography99@gmail.com
END:VEVENT
BEGIN:VEVENT
UID:65790@gostargazing.co.uk
DTSTART;TZID=Europe/London:20260530T160000
DTEND;TZID=Europe/London:20260530T220000
DTSTAMP:20260106T080652Z
URL:https://gostargazing.co.uk/events/st-michaels-mount-moon-workshop-with
 -cherrie-photography/
SUMMARY:St Michael's Mount Moon Workshop with Cherrie Photography
DESCRIPTION:This workshop offers participants the chance to photograph Corn
 wall’s most iconic lunar alignment—the full moon rising perfectly behi
 nd St Michael’s Mount—guided by PhotoPills-featured photographer and p
 lanner Aaron Cherrie. \n\nWith limited places available\, this workshop pr
 ovides a rare opportunity to capture one of the UK’s most famous moonris
 e compositions during golden hour alongside an experienced astrophotograph
 er.
ATTACH;FMTTYPE=image/jpeg:https://gostargazing.co.uk/wp-content/uploads/20
 25/12/st-michaels-mount-by-cherrie-photography.jpg
CATEGORIES:Astrophotography
LOCATION:St Michael's Mount\, Marazion\, Penzance\, Cornwall\, TR17 0HT\, S
 outh West England\, United Kingdom
GEO:50.118301;-5.477426
X-APPLE-STRUCTURED-LOCATION;VALUE=URI;X-ADDRESS=Marazion\, Penzance\, Cornw
 all\, TR17 0HT\, South West England\, United Kingdom;X-APPLE-RADIUS=100;X-
 TITLE=St Michael's Mount:geo:50.118301,-5.477426
ORGANIZER;CN="Cherrie Photography":MAILTO:cherriephotography99@gmail.com
END:VEVENT
BEGIN:VEVENT
UID:65788@gostargazing.co.uk
DTSTART;TZID=Europe/London:20260709T120000
DTEND;TZID=Europe/London:20260720T120000
DTSTAMP:20251206T133749Z
URL:https://gostargazing.co.uk/events/cornwall-astrophotography-workshop-w
 ith-cherrie-photography-2/
SUMMARY:Cornwall Astrophotography Workshop with Cherrie Photography
DESCRIPTION:Astrophotographer Aaron Cherrie leads immersive Milky Way astro
 photography workshops in 2026 under Cornwall’s darkest skies. \n\nSuitab
 le for beginners and intermediate photographers\, the sessions cover plann
 ing with PhotoPills and Stellarium\, mastering core camera settings\, and 
 capturing the Milky Way\, star trails\, timelapses\, and lunar alignments.
  \n\nParticipants also receive guidance on tracking mounts\, stacking\, an
 d post-processing in Lightroom and Photoshop\, along with dedicated lunar-
 alignment sessions. \n\nWorkshops run year-round\, with Milky Way shoots o
 ffered March–October\, and take place at carefully selected dark-sky loc
 ations across Cornwall\, chosen according to weather and visibility.
ATTACH;FMTTYPE=image/jpeg:https://gostargazing.co.uk/wp-content/uploads/20
 25/12/Lanyon-Quoit-By-Aaron-Cherrie.jpg
CATEGORIES:Astrophotography
LOCATION:Lanyon Quoit\, Madron\, Penzance\, Cornwall\, TR20 8NY\, South Wes
 t England\, United Kingdom
GEO:50.147329;-5.599031
X-APPLE-STRUCTURED-LOCATION;VALUE=URI;X-ADDRESS=Madron\, Penzance\, Cornwal
 l\, TR20 8NY\, South West England\, United Kingdom;X-APPLE-RADIUS=100;X-TI
 TLE=Lanyon Quoit:geo:50.147329,-5.599031
ORGANIZER;CN="Cherrie Photography":MAILTO:cherriephotography99@gmail.com
END:VEVENT
BEGIN:VEVENT
UID:65789@gostargazing.co.uk
DTSTART;TZID=Europe/London:20260807T120000
DTEND;TZID=Europe/London:20260818T120000
DTSTAMP:20251206T133807Z
URL:https://gostargazing.co.uk/events/cornwall-astrophotography-workshop-w
 ith-cherrie-photography-3/
SUMMARY:Cornwall Astrophotography Workshop with Cherrie Photography
DESCRIPTION:Astrophotographer Aaron Cherrie leads immersive Milky Way astro
 photography workshops in 2026 under Cornwall’s darkest skies. \n\nSuitab
 le for beginners and intermediate photographers\, the sessions cover plann
 ing with PhotoPills and Stellarium\, mastering core camera settings\, and 
 capturing the Milky Way\, star trails\, timelapses\, and lunar alignments.
  \n\nParticipants also receive guidance on tracking mounts\, stacking\, an
 d post-processing in Lightroom and Photoshop\, along with dedicated lunar-
 alignment sessions. \n\nWorkshops run year-round\, with Milky Way shoots o
 ffered March–October\, and take place at carefully selected dark-sky loc
 ations across Cornwall\, chosen according to weather and visibility.
ATTACH;FMTTYPE=image/jpeg:https://gostargazing.co.uk/wp-content/uploads/20
 25/12/Lanyon-Quoit-By-Aaron-Cherrie.jpg
CATEGORIES:Astrophotography
LOCATION:Lanyon Quoit\, Madron\, Penzance\, Cornwall\, TR20 8NY\, South Wes
 t England\, United Kingdom
GEO:50.147329;-5.599031
X-APPLE-STRUCTURED-LOCATION;VALUE=URI;X-ADDRESS=Madron\, Penzance\, Cornwal
 l\, TR20 8NY\, South West England\, United Kingdom;X-APPLE-RADIUS=100;X-TI
 TLE=Lanyon Quoit:geo:50.147329,-5.599031
ORGANIZER;CN="Cherrie Photography":MAILTO:cherriephotography99@gmail.com
END:VEVENT
BEGIN:VEVENT
UID:69351@gostargazing.co.uk
DTSTART;TZID=Europe/London:20261026T160000
DTEND;TZID=Europe/London:20261026T220000
DTSTAMP:20260106T080744Z
URL:https://gostargazing.co.uk/events/st-michaels-mount-moon-workshop-with
 -cherrie-photography-4/
SUMMARY:St Michael's Mount Moon Workshop with Cherrie Photography
DESCRIPTION:This workshop offers participants the chance to photograph Corn
 wall’s most iconic lunar alignment—the full moon rising perfectly behi
 nd St Michael’s Mount—guided by PhotoPills-featured photographer and p
 lanner Aaron Cherrie. \n\nWith limited places available\, this workshop pr
 ovides a rare opportunity to capture one of the UK’s most famous moonris
 e compositions during golden hour alongside an experienced astrophotograph
 er.
ATTACH;FMTTYPE=image/jpeg:https://gostargazing.co.uk/wp-content/uploads/20
 25/12/st-michaels-mount-by-cherrie-photography.jpg
CATEGORIES:Astrophotography
LOCATION:St Michael's Mount\, Marazion\, Penzance\, Cornwall\, TR17 0HT\, S
 outh West England\, United Kingdom
GEO:50.118301;-5.477426
X-APPLE-STRUCTURED-LOCATION;VALUE=URI;X-ADDRESS=Marazion\, Penzance\, Cornw
 all\, TR17 0HT\, South West England\, United Kingdom;X-APPLE-RADIUS=100;X-
 TITLE=St Michael's Mount:geo:50.118301,-5.477426
ORGANIZER;CN="Cherrie Photography":MAILTO:cherriephotography99@gmail.com
END:VEVENT
BEGIN:VEVENT
UID:65791@gostargazing.co.uk
DTSTART;TZID=Europe/London:20261124T160000
DTEND;TZID=Europe/London:20261124T220000
DTSTAMP:20260106T080714Z
URL:https://gostargazing.co.uk/events/st-michaels-mount-moon-workshop-with
 -cherrie-photography-2/
SUMMARY:St Michael's Mount Moon Workshop with Cherrie Photography
DESCRIPTION:This workshop offers participants the chance to photograph Corn
 wall’s most iconic lunar alignment—the full moon rising perfectly behi
 nd St Michael’s Mount—guided by PhotoPills-featured photographer and p
 lanner Aaron Cherrie. \n\nWith limited places available\, this workshop pr
 ovides a rare opportunity to capture one of the UK’s most famous moonris
 e compositions during golden hour alongside an experienced astrophotograph
 er.
ATTACH;FMTTYPE=image/jpeg:https://gostargazing.co.uk/wp-content/uploads/20
 25/12/st-michaels-mount-by-cherrie-photography.jpg
CATEGORIES:Astrophotography
LOCATION:St Michael's Mount\, Marazion\, Penzance\, Cornwall\, TR17 0HT\, S
 outh West England\, United Kingdom
GEO:50.118301;-5.477426
X-APPLE-STRUCTURED-LOCATION;VALUE=URI;X-ADDRESS=Marazion\, Penzance\, Cornw
 all\, TR17 0HT\, South West England\, United Kingdom;X-APPLE-RADIUS=100;X-
 TITLE=St Michael's Mount:geo:50.118301,-5.477426
ORGANIZER;CN="Cherrie Photography":MAILTO:cherriephotography99@gmail.com
END:VEVENT
BEGIN:VEVENT
UID:69350@gostargazing.co.uk
DTSTART;TZID=Europe/London:20261125T160000
DTEND;TZID=Europe/London:20261125T220000
DTSTAMP:20260106T080725Z
URL:https://gostargazing.co.uk/events/st-michaels-mount-moon-workshop-with
 -cherrie-photography-3/
SUMMARY:St Michael's Mount Moon Workshop with Cherrie Photography
DESCRIPTION:This workshop offers participants the chance to photograph Corn
 wall’s most iconic lunar alignment—the full moon rising perfectly behi
 nd St Michael’s Mount—guided by PhotoPills-featured photographer and p
 lanner Aaron Cherrie. \n\nWith limited places available\, this workshop pr
 ovides a rare opportunity to capture one of the UK’s most famous moonris
 e compositions during golden hour alongside an experienced astrophotograph
 er.
ATTACH;FMTTYPE=image/jpeg:https://gostargazing.co.uk/wp-content/uploads/20
 25/12/st-michaels-mount-by-cherrie-photography.jpg
CATEGORIES:Astrophotography
LOCATION:St Michael's Mount\, Marazion\, Penzance\, Cornwall\, TR17 0HT\, S
 outh West England\, United Kingdom
GEO:50.118301;-5.477426
X-APPLE-STRUCTURED-LOCATION;VALUE=URI;X-ADDRESS=Marazion\, Penzance\, Cornw
 all\, TR17 0HT\, South West England\, United Kingdom;X-APPLE-RADIUS=100;X-
 TITLE=St Michael's Mount:geo:50.118301,-5.477426
ORGANIZER;CN="Cherrie Photography":MAILTO:cherriephotography99@gmail.com
END:VEVENT
BEGIN:VTIMEZONE
TZID:Europe/London
X-LIC-LOCATION:Europe/London
BEGIN:DAYLIGHT
DTSTART:20260329T020000
TZOFFSETFROM:+0000
TZOFFSETTO:+0100
TZNAME:BST
END:DAYLIGHT
BEGIN:STANDARD
DTSTART:20261025T010000
TZOFFSETFROM:+0100
TZOFFSETTO:+0000
TZNAME:GMT
END:STANDARD
END:VTIMEZONE
END:VCALENDAR