BEGIN:VCALENDAR
VERSION:2.0
PRODID:-//wp-events-plugin.com//7.2.3.1//EN
TZID:Europe/London
X-WR-TIMEZONE:Europe/London
BEGIN:VEVENT
UID:69036@gostargazing.co.uk
DTSTART;TZID=Europe/London:20260514T190000
DTEND;TZID=Europe/London:20260514T210000
DTSTAMP:20251229T110332Z
URL:https://gostargazing.co.uk/events/vale-stargazing-club-meeting-and-obs
 erving-2026-01-08-2026-02-12-2026-03-12-2026-04-09-2026-05-14/
SUMMARY:Vale Stargazing Club meeting and observing
DESCRIPTION:Everyone is guaranteed a warm welcome at this monthly meeting o
 f the Vale Stargazing Club. Join their friendly astronomers for presentati
 ons on a variety of astronomical topics and enjoy an informal stargazing s
 ession afterwards if weather permits. 
CATEGORIES:Observing (if clear),Society meeting
LOCATION:Lleweni Parc Gliding Club\, Bodfari Road\, Denbigh\, Clwyd\, LL16 
 4BN\, null Wales\, United Kingdom
GEO:53.212049;-3.391098
X-APPLE-STRUCTURED-LOCATION;VALUE=URI;X-ADDRESS=Bodfari Road\, Denbigh\, Cl
 wyd\, LL16 4BN\, null Wales\, United Kingdom;X-APPLE-RADIUS=100;X-TITLE=Ll
 eweni Parc Gliding Club:geo:53.212049,-3.391098
ORGANIZER;CN="Vale Stargazing Club":MAILTO:valestargazing@gmail.com
END:VEVENT
BEGIN:VEVENT
UID:69037@gostargazing.co.uk
DTSTART;TZID=Europe/London:20260611T190000
DTEND;TZID=Europe/London:20260611T210000
DTSTAMP:20251229T110332Z
URL:https://gostargazing.co.uk/events/vale-stargazing-club-meeting-and-obs
 erving-2026-01-08-2026-02-12-2026-03-12-2026-04-09-2026-05-14-2026-06-11/
SUMMARY:Vale Stargazing Club meeting and observing
DESCRIPTION:Everyone is guaranteed a warm welcome at this monthly meeting o
 f the Vale Stargazing Club. Join their friendly astronomers for presentati
 ons on a variety of astronomical topics and enjoy an informal stargazing s
 ession afterwards if weather permits. 
CATEGORIES:Observing (if clear),Society meeting
LOCATION:Lleweni Parc Gliding Club\, Bodfari Road\, Denbigh\, Clwyd\, LL16 
 4BN\, null Wales\, United Kingdom
GEO:53.212049;-3.391098
X-APPLE-STRUCTURED-LOCATION;VALUE=URI;X-ADDRESS=Bodfari Road\, Denbigh\, Cl
 wyd\, LL16 4BN\, null Wales\, United Kingdom;X-APPLE-RADIUS=100;X-TITLE=Ll
 eweni Parc Gliding Club:geo:53.212049,-3.391098
ORGANIZER;CN="Vale Stargazing Club":MAILTO:valestargazing@gmail.com
END:VEVENT
BEGIN:VEVENT
UID:69038@gostargazing.co.uk
DTSTART;TZID=Europe/London:20260709T190000
DTEND;TZID=Europe/London:20260709T210000
DTSTAMP:20251229T110332Z
URL:https://gostargazing.co.uk/events/vale-stargazing-club-meeting-and-obs
 erving-2026-01-08-2026-02-12-2026-03-12-2026-04-09-2026-05-14-2026-06-11-2
 026-07-09/
SUMMARY:Vale Stargazing Club meeting and observing
DESCRIPTION:Everyone is guaranteed a warm welcome at this monthly meeting o
 f the Vale Stargazing Club. Join their friendly astronomers for presentati
 ons on a variety of astronomical topics and enjoy an informal stargazing s
 ession afterwards if weather permits. 
CATEGORIES:Observing (if clear),Society meeting
LOCATION:Lleweni Parc Gliding Club\, Bodfari Road\, Denbigh\, Clwyd\, LL16 
 4BN\, null Wales\, United Kingdom
GEO:53.212049;-3.391098
X-APPLE-STRUCTURED-LOCATION;VALUE=URI;X-ADDRESS=Bodfari Road\, Denbigh\, Cl
 wyd\, LL16 4BN\, null Wales\, United Kingdom;X-APPLE-RADIUS=100;X-TITLE=Ll
 eweni Parc Gliding Club:geo:53.212049,-3.391098
ORGANIZER;CN="Vale Stargazing Club":MAILTO:valestargazing@gmail.com
END:VEVENT
BEGIN:VEVENT
UID:69039@gostargazing.co.uk
DTSTART;TZID=Europe/London:20260813T190000
DTEND;TZID=Europe/London:20260813T210000
DTSTAMP:20251229T110332Z
URL:https://gostargazing.co.uk/events/vale-stargazing-club-meeting-and-obs
 erving-2026-01-08-2026-02-12-2026-03-12-2026-04-09-2026-05-14-2026-06-11-2
 026-07-09-2026-08-13/
SUMMARY:Vale Stargazing Club meeting and observing
DESCRIPTION:Everyone is guaranteed a warm welcome at this monthly meeting o
 f the Vale Stargazing Club. Join their friendly astronomers for presentati
 ons on a variety of astronomical topics and enjoy an informal stargazing s
 ession afterwards if weather permits. 
CATEGORIES:Observing (if clear),Society meeting
LOCATION:Lleweni Parc Gliding Club\, Bodfari Road\, Denbigh\, Clwyd\, LL16 
 4BN\, null Wales\, United Kingdom
GEO:53.212049;-3.391098
X-APPLE-STRUCTURED-LOCATION;VALUE=URI;X-ADDRESS=Bodfari Road\, Denbigh\, Cl
 wyd\, LL16 4BN\, null Wales\, United Kingdom;X-APPLE-RADIUS=100;X-TITLE=Ll
 eweni Parc Gliding Club:geo:53.212049,-3.391098
ORGANIZER;CN="Vale Stargazing Club":MAILTO:valestargazing@gmail.com
END:VEVENT
BEGIN:VEVENT
UID:69040@gostargazing.co.uk
DTSTART;TZID=Europe/London:20260910T190000
DTEND;TZID=Europe/London:20260910T210000
DTSTAMP:20251229T110332Z
URL:https://gostargazing.co.uk/events/vale-stargazing-club-meeting-and-obs
 erving-2026-01-08-2026-02-12-2026-03-12-2026-04-09-2026-05-14-2026-06-11-2
 026-07-09-2026-08-13-2026-09-10/
SUMMARY:Vale Stargazing Club meeting and observing
DESCRIPTION:Everyone is guaranteed a warm welcome at this monthly meeting o
 f the Vale Stargazing Club. Join their friendly astronomers for presentati
 ons on a variety of astronomical topics and enjoy an informal stargazing s
 ession afterwards if weather permits. 
CATEGORIES:Observing (if clear),Society meeting
LOCATION:Lleweni Parc Gliding Club\, Bodfari Road\, Denbigh\, Clwyd\, LL16 
 4BN\, null Wales\, United Kingdom
GEO:53.212049;-3.391098
X-APPLE-STRUCTURED-LOCATION;VALUE=URI;X-ADDRESS=Bodfari Road\, Denbigh\, Cl
 wyd\, LL16 4BN\, null Wales\, United Kingdom;X-APPLE-RADIUS=100;X-TITLE=Ll
 eweni Parc Gliding Club:geo:53.212049,-3.391098
ORGANIZER;CN="Vale Stargazing Club":MAILTO:valestargazing@gmail.com
END:VEVENT
BEGIN:VEVENT
UID:69041@gostargazing.co.uk
DTSTART;TZID=Europe/London:20261008T190000
DTEND;TZID=Europe/London:20261008T210000
DTSTAMP:20251229T110332Z
URL:https://gostargazing.co.uk/events/vale-stargazing-club-meeting-and-obs
 erving-2026-01-08-2026-02-12-2026-03-12-2026-04-09-2026-05-14-2026-06-11-2
 026-07-09-2026-08-13-2026-09-10-2026-10-08/
SUMMARY:Vale Stargazing Club meeting and observing
DESCRIPTION:Everyone is guaranteed a warm welcome at this monthly meeting o
 f the Vale Stargazing Club. Join their friendly astronomers for presentati
 ons on a variety of astronomical topics and enjoy an informal stargazing s
 ession afterwards if weather permits. 
CATEGORIES:Observing (if clear),Society meeting
LOCATION:Lleweni Parc Gliding Club\, Bodfari Road\, Denbigh\, Clwyd\, LL16 
 4BN\, null Wales\, United Kingdom
GEO:53.212049;-3.391098
X-APPLE-STRUCTURED-LOCATION;VALUE=URI;X-ADDRESS=Bodfari Road\, Denbigh\, Cl
 wyd\, LL16 4BN\, null Wales\, United Kingdom;X-APPLE-RADIUS=100;X-TITLE=Ll
 eweni Parc Gliding Club:geo:53.212049,-3.391098
ORGANIZER;CN="Vale Stargazing Club":MAILTO:valestargazing@gmail.com
END:VEVENT
BEGIN:VEVENT
UID:69042@gostargazing.co.uk
DTSTART;TZID=Europe/London:20261112T190000
DTEND;TZID=Europe/London:20261112T210000
DTSTAMP:20251229T110332Z
URL:https://gostargazing.co.uk/events/vale-stargazing-club-meeting-and-obs
 erving-2026-01-08-2026-02-12-2026-03-12-2026-04-09-2026-05-14-2026-06-11-2
 026-07-09-2026-08-13-2026-09-10-2026-10-08-2026-11-12/
SUMMARY:Vale Stargazing Club meeting and observing
DESCRIPTION:Everyone is guaranteed a warm welcome at this monthly meeting o
 f the Vale Stargazing Club. Join their friendly astronomers for presentati
 ons on a variety of astronomical topics and enjoy an informal stargazing s
 ession afterwards if weather permits. 
CATEGORIES:Observing (if clear),Society meeting
LOCATION:Lleweni Parc Gliding Club\, Bodfari Road\, Denbigh\, Clwyd\, LL16 
 4BN\, null Wales\, United Kingdom
GEO:53.212049;-3.391098
X-APPLE-STRUCTURED-LOCATION;VALUE=URI;X-ADDRESS=Bodfari Road\, Denbigh\, Cl
 wyd\, LL16 4BN\, null Wales\, United Kingdom;X-APPLE-RADIUS=100;X-TITLE=Ll
 eweni Parc Gliding Club:geo:53.212049,-3.391098
ORGANIZER;CN="Vale Stargazing Club":MAILTO:valestargazing@gmail.com
END:VEVENT
BEGIN:VEVENT
UID:69043@gostargazing.co.uk
DTSTART;TZID=Europe/London:20261210T190000
DTEND;TZID=Europe/London:20261210T210000
DTSTAMP:20251229T110332Z
URL:https://gostargazing.co.uk/events/vale-stargazing-club-meeting-and-obs
 erving-2026-01-08-2026-02-12-2026-03-12-2026-04-09-2026-05-14-2026-06-11-2
 026-07-09-2026-08-13-2026-09-10-2026-10-08-2026-11-12-2026-12-10/
SUMMARY:Vale Stargazing Club meeting and observing
DESCRIPTION:Everyone is guaranteed a warm welcome at this monthly meeting o
 f the Vale Stargazing Club. Join their friendly astronomers for presentati
 ons on a variety of astronomical topics and enjoy an informal stargazing s
 ession afterwards if weather permits. 
CATEGORIES:Observing (if clear),Society meeting
LOCATION:Lleweni Parc Gliding Club\, Bodfari Road\, Denbigh\, Clwyd\, LL16 
 4BN\, null Wales\, United Kingdom
GEO:53.212049;-3.391098
X-APPLE-STRUCTURED-LOCATION;VALUE=URI;X-ADDRESS=Bodfari Road\, Denbigh\, Cl
 wyd\, LL16 4BN\, null Wales\, United Kingdom;X-APPLE-RADIUS=100;X-TITLE=Ll
 eweni Parc Gliding Club:geo:53.212049,-3.391098
ORGANIZER;CN="Vale Stargazing Club":MAILTO:valestargazing@gmail.com
END:VEVENT
BEGIN:VTIMEZONE
TZID:Europe/London
X-LIC-LOCATION:Europe/London
BEGIN:DAYLIGHT
DTSTART:20260329T020000
TZOFFSETFROM:+0000
TZOFFSETTO:+0100
TZNAME:BST
END:DAYLIGHT
BEGIN:STANDARD
DTSTART:20261025T010000
TZOFFSETFROM:+0100
TZOFFSETTO:+0000
TZNAME:GMT
END:STANDARD
END:VTIMEZONE
END:VCALENDAR