BEGIN:VCALENDAR
VERSION:2.0
PRODID:-//wp-events-plugin.com//7.2.3.1//EN
TZID:Europe/London
X-WR-TIMEZONE:Europe/London
BEGIN:VEVENT
UID:69555@gostargazing.co.uk
DTSTART;TZID=Europe/London:20261213T180000
DTEND;TZID=Europe/London:20261213T220000
DTSTAMP:20260120T205722Z
URL:https://gostargazing.co.uk/events/yorkshire-dales-dark-skies-night-hik
 e-13/
SUMMARY:Yorkshire Dales Dark Skies Night Hike
DESCRIPTION:Gaze in awe at the Milky Way\, marvel at millions of stars and 
 soak up the unique atmosphere of an evening hike on one of our Dark Skies 
 Night Hikes in the Yorkshire Dales National Park\, a Dark Sky Reserve.\n\n
 Our Night Hikes take place over the winter months so we can make the most 
 of our nocturnal hiking experience!\n\nWe will head to heart of the Yorksh
 ire Dales National Park\, where there are exceptionally dark skies and a m
 agnificent nocturnal environment.\n\nAll of our Dark Skies Night Hikes are
  guided by Mark Reid\, a very experienced Mountain Leader who knows the Yo
 rkshire Dales extremely well\, so you can simply relax and follow Mark whi
 lst marvelling at the night sky above!\n\nNote that you will be informed o
 f the exact meeting location for this event upon booking.\n
CATEGORIES:Wellness and Mindfulness
LOCATION:Bainbridge Village Hall\, High Cam Road\, Bainbridge\, North Yorks
 hire\, DL8 3EL\, United Kingdom
GEO:54.30665960474587;-2.103567724467439
X-APPLE-STRUCTURED-LOCATION;VALUE=URI;X-ADDRESS=High Cam Road\, Bainbridge\
 , North Yorkshire\, DL8 3EL\, United Kingdom;X-APPLE-RADIUS=100;X-TITLE=Ba
 inbridge Village Hall:geo:54.30665960474587,-2.103567724467439
ORGANIZER;CN="Team Walking":MAILTO:mark@teamwalking.co.uk
END:VEVENT
BEGIN:VTIMEZONE
TZID:Europe/London
X-LIC-LOCATION:Europe/London
BEGIN:STANDARD
DTSTART:20261025T010000
TZOFFSETFROM:+0100
TZOFFSETTO:+0000
TZNAME:GMT
END:STANDARD
END:VTIMEZONE
END:VCALENDAR