BEGIN:VCALENDAR
VERSION:2.0
PRODID:-//wp-events-plugin.com//7.2.3.1//EN
TZID:Europe/London
X-WR-TIMEZONE:Europe/London
BEGIN:VEVENT
UID:70235@gostargazing.co.uk
DTSTART;TZID=Europe/London:20261003T183000
DTEND;TZID=Europe/London:20261003T213000
DTSTAMP:20260410T121113Z
URL:https://gostargazing.co.uk/events/mindful-stargazing-at-angel-cottage-
 organics/
SUMMARY:Mindful Stargazing at Angel Cottage Organics
DESCRIPTION:This mindful stargazing evening invites you to reconnect with a
  sense of wonder\, shifting from simply observing the Universe to feeling 
 part of it through an immersive\, experiential approach. Guided by Mark We
 stmoquette\, the session blends science\, mindfulness\, and gentle movemen
 t\, beginning with an indoor cosmic body scan and visual journey through t
 he life of stars.\n\nOutdoors\, you’ll be guided to open your senses to 
 the night sky as it is\, with practices such as Cosmic Qigong and\, if con
 ditions allow\, a relaxed exploration of constellations and their stories\
 , ending with quiet reflection and shared insights.
ATTACH;FMTTYPE=image/jpeg:https://gostargazing.co.uk/wp-content/uploads/20
 26/04/haddon-copsse-farm-sign.jpg
CATEGORIES:Astronomy presentation,Observing (if clear),Wellness and
 Mindfulness
LOCATION:Angel Cottage Organics\, Haddon Copse Farm\, Sturminster Newton\, 
 Dorset\, DT10 2AQ\, South West England\, United Kingdom
GEO:50.893931;-2.344626
X-APPLE-STRUCTURED-LOCATION;VALUE=URI;X-ADDRESS=Haddon Copse Farm\, Sturmin
 ster Newton\, Dorset\, DT10 2AQ\, South West England\, United Kingdom;X-AP
 PLE-RADIUS=100;X-TITLE=Angel Cottage Organics:geo:50.893931,-2.344626
ORGANIZER;CN="Dr Mark Westmoquette":MAILTO:mark@markwestmoquette.co.uk
END:VEVENT
BEGIN:VTIMEZONE
TZID:Europe/London
X-LIC-LOCATION:Europe/London
BEGIN:DAYLIGHT
DTSTART:20260329T020000
TZOFFSETFROM:+0000
TZOFFSETTO:+0100
TZNAME:BST
END:DAYLIGHT
END:VTIMEZONE
END:VCALENDAR