BEGIN:VCALENDAR
VERSION:2.0
PRODID:-//wp-events-plugin.com//7.2.3.1//EN
TZID:Europe/London
X-WR-TIMEZONE:Europe/London
BEGIN:VEVENT
UID:69859@gostargazing.co.uk
DTSTART;TZID=Europe/London:20260425T193000
DTEND;TZID=Europe/London:20260425T213000
DTSTAMP:20260305T133450Z
URL:https://gostargazing.co.uk/events/stargazing-at-chalk-farm/
SUMMARY:Stargazing at Chalk Farm
DESCRIPTION:Join the friendly astronomers from the Seven Sisters Astronomy 
 Group for this stargazing evening in support of Chalk Farm Learning Disabi
 lities Centre. Experience the night sky like never before! Tickets include
  a pre-stargazing talk\, chilli jacket potatoes and a guided stargazing se
 ssion\, all equipment provided. All profits goes to Chalk Farm LDC\, an or
 ganisation supporting adults with learning disabilities and/or autism.
CATEGORIES:Astronomy presentation,Observing (if clear)
LOCATION:Chalk Farm Hotel\, Coopers Hill\, Willingdon\, East Sussex\, BN20 
 9JD\, South East England\, United Kingdom
GEO:50.800387;0.249894
X-APPLE-STRUCTURED-LOCATION;VALUE=URI;X-ADDRESS=Coopers Hill\, Willingdon\,
  East Sussex\, BN20 9JD\, South East England\, United Kingdom;X-APPLE-RADI
 US=100;X-TITLE=Chalk Farm Hotel:geo:50.800387,0.249894
ORGANIZER;CN="Seven Sisters Astronomy Group":MAILTO:ssaginfo23@gmail.com
END:VEVENT
BEGIN:VEVENT
UID:70224@gostargazing.co.uk
DTSTART;TZID=Europe/London:20260425T193000
DTEND;TZID=Europe/London:20260425T223000
DTSTAMP:20260331T071251Z
URL:https://gostargazing.co.uk/events/stargazing-at-chalk-farm-2/
SUMMARY:Stargazing at Chalk Farm
DESCRIPTION:Join the Seven Sisters Astronomy Group at the fabulous location
  of Chalk Farm for this fundraising stargazing event. Enjoy a fascinating 
 talk exploring the wonders of the night sky\, followed by guided stargazin
 g in beautiful hotel gardens using high-quality telescopes and professiona
 l equipment. Whether you're a complete beginner or a space enthusiast\, th
 is is a truly special experience. All proceeds go directly to Chalk Farm L
 DC\, supporting adults with learning disabilities and/or autism through tr
 aining and opportunities. Spaces are limited\, and this is expected to be 
 a popular event - book early to avoid missing out! 
CATEGORIES:Astronomy presentation,Observing (if clear)
LOCATION:Chalk Farm Hotel\, Coopers Hill\, Willingdon\, East Sussex\, BN20 
 9JD\, South East England\, United Kingdom
GEO:50.800387;0.249894
X-APPLE-STRUCTURED-LOCATION;VALUE=URI;X-ADDRESS=Coopers Hill\, Willingdon\,
  East Sussex\, BN20 9JD\, South East England\, United Kingdom;X-APPLE-RADI
 US=100;X-TITLE=Chalk Farm Hotel:geo:50.800387,0.249894
ORGANIZER;CN="Seven Sisters Astronomy Group":MAILTO:ssaginfo23@gmail.com
END:VEVENT
BEGIN:VTIMEZONE
TZID:Europe/London
X-LIC-LOCATION:Europe/London
BEGIN:DAYLIGHT
DTSTART:20260329T020000
TZOFFSETFROM:+0000
TZOFFSETTO:+0100
TZNAME:BST
END:DAYLIGHT
END:VTIMEZONE
END:VCALENDAR