BEGIN:VCALENDAR
VERSION:2.0
PRODID:-//wp-events-plugin.com//7.2.3.1//EN
TZID:Europe/London
X-WR-TIMEZONE:Europe/London
BEGIN:VEVENT
UID:67436@gostargazing.co.uk
DTSTART;TZID=Europe/London:20260508T193000
DTEND;TZID=Europe/London:20260508T213000
DTSTAMP:20251216T115446Z
URL:https://gostargazing.co.uk/events/herschel-astronomical-society-inform
 al-observing-session-2026-01-09-2026-02-13-2026-03-13-2026-04-10-2026-05-0
 8/
SUMMARY:Herschel Astronomical Society informal observing session
DESCRIPTION:Come along and join the friendly astronomers of the Herschel As
 tronomical Society for a relaxed\, monthly observing session. Meetings are
  held at a private observatory near Maidenhead\, where several large teles
 copes provide wonderful views of planets\, the Moon\, and brighter deep-sk
 y objects. If clouds get in the way\, there’s always a backup plan with 
 an informal talk and a guided tour of the night sky using software. Anyone
  curious about astronomy or interested in joining the club is very welcome
  — just get in touch with the Society to let them know you’d like to a
 ttend.
CATEGORIES:Observing (if clear),Society meeting
LOCATION:Maidenhead\, Maidenhead\, Maidenhead\, Berkshire\, SL6\, South Eas
 t England\, United Kingdom
GEO:51.522561;-0.724308
X-APPLE-STRUCTURED-LOCATION;VALUE=URI;X-ADDRESS=Maidenhead\, Maidenhead\, B
 erkshire\, SL6\, South East England\, United Kingdom;X-APPLE-RADIUS=100;X-
 TITLE=Maidenhead:geo:51.522561,-0.724308
ORGANIZER;CN="Herschel Astronomical Society":MAILTO:herschel.astrosoc@gmail.com
END:VEVENT
BEGIN:VEVENT
UID:67437@gostargazing.co.uk
DTSTART;TZID=Europe/London:20260612T193000
DTEND;TZID=Europe/London:20260612T213000
DTSTAMP:20251216T115446Z
URL:https://gostargazing.co.uk/events/herschel-astronomical-society-inform
 al-observing-session-2026-01-09-2026-02-13-2026-03-13-2026-04-10-2026-05-0
 8-2026-06-12/
SUMMARY:Herschel Astronomical Society informal observing session
DESCRIPTION:Come along and join the friendly astronomers of the Herschel As
 tronomical Society for a relaxed\, monthly observing session. Meetings are
  held at a private observatory near Maidenhead\, where several large teles
 copes provide wonderful views of planets\, the Moon\, and brighter deep-sk
 y objects. If clouds get in the way\, there’s always a backup plan with 
 an informal talk and a guided tour of the night sky using software. Anyone
  curious about astronomy or interested in joining the club is very welcome
  — just get in touch with the Society to let them know you’d like to a
 ttend.
CATEGORIES:Observing (if clear),Society meeting
LOCATION:Maidenhead\, Maidenhead\, Maidenhead\, Berkshire\, SL6\, South Eas
 t England\, United Kingdom
GEO:51.522561;-0.724308
X-APPLE-STRUCTURED-LOCATION;VALUE=URI;X-ADDRESS=Maidenhead\, Maidenhead\, B
 erkshire\, SL6\, South East England\, United Kingdom;X-APPLE-RADIUS=100;X-
 TITLE=Maidenhead:geo:51.522561,-0.724308
ORGANIZER;CN="Herschel Astronomical Society":MAILTO:herschel.astrosoc@gmail.com
END:VEVENT
BEGIN:VEVENT
UID:67438@gostargazing.co.uk
DTSTART;TZID=Europe/London:20260710T193000
DTEND;TZID=Europe/London:20260710T213000
DTSTAMP:20251216T115446Z
URL:https://gostargazing.co.uk/events/herschel-astronomical-society-inform
 al-observing-session-2026-01-09-2026-02-13-2026-03-13-2026-04-10-2026-05-0
 8-2026-06-12-2026-07-10/
SUMMARY:Herschel Astronomical Society informal observing session
DESCRIPTION:Come along and join the friendly astronomers of the Herschel As
 tronomical Society for a relaxed\, monthly observing session. Meetings are
  held at a private observatory near Maidenhead\, where several large teles
 copes provide wonderful views of planets\, the Moon\, and brighter deep-sk
 y objects. If clouds get in the way\, there’s always a backup plan with 
 an informal talk and a guided tour of the night sky using software. Anyone
  curious about astronomy or interested in joining the club is very welcome
  — just get in touch with the Society to let them know you’d like to a
 ttend.
CATEGORIES:Observing (if clear),Society meeting
LOCATION:Maidenhead\, Maidenhead\, Maidenhead\, Berkshire\, SL6\, South Eas
 t England\, United Kingdom
GEO:51.522561;-0.724308
X-APPLE-STRUCTURED-LOCATION;VALUE=URI;X-ADDRESS=Maidenhead\, Maidenhead\, B
 erkshire\, SL6\, South East England\, United Kingdom;X-APPLE-RADIUS=100;X-
 TITLE=Maidenhead:geo:51.522561,-0.724308
ORGANIZER;CN="Herschel Astronomical Society":MAILTO:herschel.astrosoc@gmail.com
END:VEVENT
BEGIN:VEVENT
UID:67439@gostargazing.co.uk
DTSTART;TZID=Europe/London:20260814T193000
DTEND;TZID=Europe/London:20260814T213000
DTSTAMP:20251216T115446Z
URL:https://gostargazing.co.uk/events/herschel-astronomical-society-inform
 al-observing-session-2026-01-09-2026-02-13-2026-03-13-2026-04-10-2026-05-0
 8-2026-06-12-2026-07-10-2026-08-14/
SUMMARY:Herschel Astronomical Society informal observing session
DESCRIPTION:Come along and join the friendly astronomers of the Herschel As
 tronomical Society for a relaxed\, monthly observing session. Meetings are
  held at a private observatory near Maidenhead\, where several large teles
 copes provide wonderful views of planets\, the Moon\, and brighter deep-sk
 y objects. If clouds get in the way\, there’s always a backup plan with 
 an informal talk and a guided tour of the night sky using software. Anyone
  curious about astronomy or interested in joining the club is very welcome
  — just get in touch with the Society to let them know you’d like to a
 ttend.
CATEGORIES:Observing (if clear),Society meeting
LOCATION:Maidenhead\, Maidenhead\, Maidenhead\, Berkshire\, SL6\, South Eas
 t England\, United Kingdom
GEO:51.522561;-0.724308
X-APPLE-STRUCTURED-LOCATION;VALUE=URI;X-ADDRESS=Maidenhead\, Maidenhead\, B
 erkshire\, SL6\, South East England\, United Kingdom;X-APPLE-RADIUS=100;X-
 TITLE=Maidenhead:geo:51.522561,-0.724308
ORGANIZER;CN="Herschel Astronomical Society":MAILTO:herschel.astrosoc@gmail.com
END:VEVENT
BEGIN:VEVENT
UID:67440@gostargazing.co.uk
DTSTART;TZID=Europe/London:20260911T193000
DTEND;TZID=Europe/London:20260911T213000
DTSTAMP:20251216T115446Z
URL:https://gostargazing.co.uk/events/herschel-astronomical-society-inform
 al-observing-session-2026-01-09-2026-02-13-2026-03-13-2026-04-10-2026-05-0
 8-2026-06-12-2026-07-10-2026-08-14-2026-09-11/
SUMMARY:Herschel Astronomical Society informal observing session
DESCRIPTION:Come along and join the friendly astronomers of the Herschel As
 tronomical Society for a relaxed\, monthly observing session. Meetings are
  held at a private observatory near Maidenhead\, where several large teles
 copes provide wonderful views of planets\, the Moon\, and brighter deep-sk
 y objects. If clouds get in the way\, there’s always a backup plan with 
 an informal talk and a guided tour of the night sky using software. Anyone
  curious about astronomy or interested in joining the club is very welcome
  — just get in touch with the Society to let them know you’d like to a
 ttend.
CATEGORIES:Observing (if clear),Society meeting
LOCATION:Maidenhead\, Maidenhead\, Maidenhead\, Berkshire\, SL6\, South Eas
 t England\, United Kingdom
GEO:51.522561;-0.724308
X-APPLE-STRUCTURED-LOCATION;VALUE=URI;X-ADDRESS=Maidenhead\, Maidenhead\, B
 erkshire\, SL6\, South East England\, United Kingdom;X-APPLE-RADIUS=100;X-
 TITLE=Maidenhead:geo:51.522561,-0.724308
ORGANIZER;CN="Herschel Astronomical Society":MAILTO:herschel.astrosoc@gmail.com
END:VEVENT
BEGIN:VEVENT
UID:67441@gostargazing.co.uk
DTSTART;TZID=Europe/London:20261009T193000
DTEND;TZID=Europe/London:20261009T213000
DTSTAMP:20251216T115446Z
URL:https://gostargazing.co.uk/events/herschel-astronomical-society-inform
 al-observing-session-2026-01-09-2026-02-13-2026-03-13-2026-04-10-2026-05-0
 8-2026-06-12-2026-07-10-2026-08-14-2026-09-11-2026-10-09/
SUMMARY:Herschel Astronomical Society informal observing session
DESCRIPTION:Come along and join the friendly astronomers of the Herschel As
 tronomical Society for a relaxed\, monthly observing session. Meetings are
  held at a private observatory near Maidenhead\, where several large teles
 copes provide wonderful views of planets\, the Moon\, and brighter deep-sk
 y objects. If clouds get in the way\, there’s always a backup plan with 
 an informal talk and a guided tour of the night sky using software. Anyone
  curious about astronomy or interested in joining the club is very welcome
  — just get in touch with the Society to let them know you’d like to a
 ttend.
CATEGORIES:Observing (if clear),Society meeting
LOCATION:Maidenhead\, Maidenhead\, Maidenhead\, Berkshire\, SL6\, South Eas
 t England\, United Kingdom
GEO:51.522561;-0.724308
X-APPLE-STRUCTURED-LOCATION;VALUE=URI;X-ADDRESS=Maidenhead\, Maidenhead\, B
 erkshire\, SL6\, South East England\, United Kingdom;X-APPLE-RADIUS=100;X-
 TITLE=Maidenhead:geo:51.522561,-0.724308
ORGANIZER;CN="Herschel Astronomical Society":MAILTO:herschel.astrosoc@gmail.com
END:VEVENT
BEGIN:VEVENT
UID:67442@gostargazing.co.uk
DTSTART;TZID=Europe/London:20261113T193000
DTEND;TZID=Europe/London:20261113T213000
DTSTAMP:20251216T115446Z
URL:https://gostargazing.co.uk/events/herschel-astronomical-society-inform
 al-observing-session-2026-01-09-2026-02-13-2026-03-13-2026-04-10-2026-05-0
 8-2026-06-12-2026-07-10-2026-08-14-2026-09-11-2026-10-09-2026-11-13/
SUMMARY:Herschel Astronomical Society informal observing session
DESCRIPTION:Come along and join the friendly astronomers of the Herschel As
 tronomical Society for a relaxed\, monthly observing session. Meetings are
  held at a private observatory near Maidenhead\, where several large teles
 copes provide wonderful views of planets\, the Moon\, and brighter deep-sk
 y objects. If clouds get in the way\, there’s always a backup plan with 
 an informal talk and a guided tour of the night sky using software. Anyone
  curious about astronomy or interested in joining the club is very welcome
  — just get in touch with the Society to let them know you’d like to a
 ttend.
CATEGORIES:Observing (if clear),Society meeting
LOCATION:Maidenhead\, Maidenhead\, Maidenhead\, Berkshire\, SL6\, South Eas
 t England\, United Kingdom
GEO:51.522561;-0.724308
X-APPLE-STRUCTURED-LOCATION;VALUE=URI;X-ADDRESS=Maidenhead\, Maidenhead\, B
 erkshire\, SL6\, South East England\, United Kingdom;X-APPLE-RADIUS=100;X-
 TITLE=Maidenhead:geo:51.522561,-0.724308
ORGANIZER;CN="Herschel Astronomical Society":MAILTO:herschel.astrosoc@gmail.com
END:VEVENT
BEGIN:VEVENT
UID:67443@gostargazing.co.uk
DTSTART;TZID=Europe/London:20261211T193000
DTEND;TZID=Europe/London:20261211T213000
DTSTAMP:20251216T115446Z
URL:https://gostargazing.co.uk/events/herschel-astronomical-society-inform
 al-observing-session-2026-01-09-2026-02-13-2026-03-13-2026-04-10-2026-05-0
 8-2026-06-12-2026-07-10-2026-08-14-2026-09-11-2026-10-09-2026-11-13-2026-1
 2-11/
SUMMARY:Herschel Astronomical Society informal observing session
DESCRIPTION:Come along and join the friendly astronomers of the Herschel As
 tronomical Society for a relaxed\, monthly observing session. Meetings are
  held at a private observatory near Maidenhead\, where several large teles
 copes provide wonderful views of planets\, the Moon\, and brighter deep-sk
 y objects. If clouds get in the way\, there’s always a backup plan with 
 an informal talk and a guided tour of the night sky using software. Anyone
  curious about astronomy or interested in joining the club is very welcome
  — just get in touch with the Society to let them know you’d like to a
 ttend.
CATEGORIES:Observing (if clear),Society meeting
LOCATION:Maidenhead\, Maidenhead\, Maidenhead\, Berkshire\, SL6\, South Eas
 t England\, United Kingdom
GEO:51.522561;-0.724308
X-APPLE-STRUCTURED-LOCATION;VALUE=URI;X-ADDRESS=Maidenhead\, Maidenhead\, B
 erkshire\, SL6\, South East England\, United Kingdom;X-APPLE-RADIUS=100;X-
 TITLE=Maidenhead:geo:51.522561,-0.724308
ORGANIZER;CN="Herschel Astronomical Society":MAILTO:herschel.astrosoc@gmail.com
END:VEVENT
BEGIN:VTIMEZONE
TZID:Europe/London
X-LIC-LOCATION:Europe/London
BEGIN:DAYLIGHT
DTSTART:20260329T020000
TZOFFSETFROM:+0000
TZOFFSETTO:+0100
TZNAME:BST
END:DAYLIGHT
BEGIN:STANDARD
DTSTART:20261025T010000
TZOFFSETFROM:+0100
TZOFFSETTO:+0000
TZNAME:GMT
END:STANDARD
END:VTIMEZONE
END:VCALENDAR