BEGIN:VCALENDAR
VERSION:2.0
PRODID:-//wp-events-plugin.com//7.2.3.1//EN
TZID:Europe/London
X-WR-TIMEZONE:Europe/London
BEGIN:VEVENT
UID:67154@gostargazing.co.uk
DTSTART;TZID=Europe/London:20260428T190000
DTEND;TZID=Europe/London:20260428T210000
DTSTAMP:20251216T103733Z
URL:https://gostargazing.co.uk/events/renfrewshire-astronomical-society-me
 eting-2026-04-28/
SUMMARY:Renfrewshire Astronomical Society meeting
DESCRIPTION:Everyone interested in astronomy is welcome to join the friendl
 y members of the Renfrewshire Astronomical Society for their bi-weekly in-
 person meetings at Walkinshaw Community Centre (the group meets online via
  Zoom in between). \n\nThese sessions tend to be fairly informal and inclu
 de a discussion about the latest astronomy news\, what can be observed in 
 the night sky and future observing sessions. You're guaranteed a warm welc
 ome\, so pop along and join them!
CATEGORIES:Society meeting
LOCATION:Station Seven Community Centre\, Quarry Street\, Johnstone\, Renfr
 ewshire\, PA5 8DY\, Scotland\, United Kingdom
GEO:55.834935;-4.51544
X-APPLE-STRUCTURED-LOCATION;VALUE=URI;X-ADDRESS=Quarry Street\, Johnstone\,
  Renfrewshire\, PA5 8DY\, Scotland\, United Kingdom;X-APPLE-RADIUS=100;X-T
 ITLE=Station Seven Community Centre:geo:55.834935,-4.51544
ORGANIZER;CN="Renfrewshire Astronomical Society":MAILTO:info@renfrewshireastro.co.uk
END:VEVENT
BEGIN:VEVENT
UID:67155@gostargazing.co.uk
DTSTART;TZID=Europe/London:20260512T190000
DTEND;TZID=Europe/London:20260512T210000
DTSTAMP:20251216T103733Z
URL:https://gostargazing.co.uk/events/renfrewshire-astronomical-society-me
 eting-2026-05-12/
SUMMARY:Renfrewshire Astronomical Society meeting
DESCRIPTION:Everyone interested in astronomy is welcome to join the friendl
 y members of the Renfrewshire Astronomical Society for their bi-weekly in-
 person meetings at Walkinshaw Community Centre (the group meets online via
  Zoom in between). \n\nThese sessions tend to be fairly informal and inclu
 de a discussion about the latest astronomy news\, what can be observed in 
 the night sky and future observing sessions. You're guaranteed a warm welc
 ome\, so pop along and join them!
CATEGORIES:Society meeting
LOCATION:Station Seven Community Centre\, Quarry Street\, Johnstone\, Renfr
 ewshire\, PA5 8DY\, Scotland\, United Kingdom
GEO:55.834935;-4.51544
X-APPLE-STRUCTURED-LOCATION;VALUE=URI;X-ADDRESS=Quarry Street\, Johnstone\,
  Renfrewshire\, PA5 8DY\, Scotland\, United Kingdom;X-APPLE-RADIUS=100;X-T
 ITLE=Station Seven Community Centre:geo:55.834935,-4.51544
ORGANIZER;CN="Renfrewshire Astronomical Society":MAILTO:info@renfrewshireastro.co.uk
END:VEVENT
BEGIN:VEVENT
UID:67156@gostargazing.co.uk
DTSTART;TZID=Europe/London:20260526T190000
DTEND;TZID=Europe/London:20260526T210000
DTSTAMP:20251216T103733Z
URL:https://gostargazing.co.uk/events/renfrewshire-astronomical-society-me
 eting-2026-05-26/
SUMMARY:Renfrewshire Astronomical Society meeting
DESCRIPTION:Everyone interested in astronomy is welcome to join the friendl
 y members of the Renfrewshire Astronomical Society for their bi-weekly in-
 person meetings at Walkinshaw Community Centre (the group meets online via
  Zoom in between). \n\nThese sessions tend to be fairly informal and inclu
 de a discussion about the latest astronomy news\, what can be observed in 
 the night sky and future observing sessions. You're guaranteed a warm welc
 ome\, so pop along and join them!
CATEGORIES:Society meeting
LOCATION:Station Seven Community Centre\, Quarry Street\, Johnstone\, Renfr
 ewshire\, PA5 8DY\, Scotland\, United Kingdom
GEO:55.834935;-4.51544
X-APPLE-STRUCTURED-LOCATION;VALUE=URI;X-ADDRESS=Quarry Street\, Johnstone\,
  Renfrewshire\, PA5 8DY\, Scotland\, United Kingdom;X-APPLE-RADIUS=100;X-T
 ITLE=Station Seven Community Centre:geo:55.834935,-4.51544
ORGANIZER;CN="Renfrewshire Astronomical Society":MAILTO:info@renfrewshireastro.co.uk
END:VEVENT
BEGIN:VEVENT
UID:67157@gostargazing.co.uk
DTSTART;TZID=Europe/London:20260609T190000
DTEND;TZID=Europe/London:20260609T210000
DTSTAMP:20251216T103733Z
URL:https://gostargazing.co.uk/events/renfrewshire-astronomical-society-me
 eting-2026-06-09/
SUMMARY:Renfrewshire Astronomical Society meeting
DESCRIPTION:Everyone interested in astronomy is welcome to join the friendl
 y members of the Renfrewshire Astronomical Society for their bi-weekly in-
 person meetings at Walkinshaw Community Centre (the group meets online via
  Zoom in between). \n\nThese sessions tend to be fairly informal and inclu
 de a discussion about the latest astronomy news\, what can be observed in 
 the night sky and future observing sessions. You're guaranteed a warm welc
 ome\, so pop along and join them!
CATEGORIES:Society meeting
LOCATION:Station Seven Community Centre\, Quarry Street\, Johnstone\, Renfr
 ewshire\, PA5 8DY\, Scotland\, United Kingdom
GEO:55.834935;-4.51544
X-APPLE-STRUCTURED-LOCATION;VALUE=URI;X-ADDRESS=Quarry Street\, Johnstone\,
  Renfrewshire\, PA5 8DY\, Scotland\, United Kingdom;X-APPLE-RADIUS=100;X-T
 ITLE=Station Seven Community Centre:geo:55.834935,-4.51544
ORGANIZER;CN="Renfrewshire Astronomical Society":MAILTO:info@renfrewshireastro.co.uk
END:VEVENT
BEGIN:VEVENT
UID:67158@gostargazing.co.uk
DTSTART;TZID=Europe/London:20260623T190000
DTEND;TZID=Europe/London:20260623T210000
DTSTAMP:20251216T103733Z
URL:https://gostargazing.co.uk/events/renfrewshire-astronomical-society-me
 eting-2026-06-23/
SUMMARY:Renfrewshire Astronomical Society meeting
DESCRIPTION:Everyone interested in astronomy is welcome to join the friendl
 y members of the Renfrewshire Astronomical Society for their bi-weekly in-
 person meetings at Walkinshaw Community Centre (the group meets online via
  Zoom in between). \n\nThese sessions tend to be fairly informal and inclu
 de a discussion about the latest astronomy news\, what can be observed in 
 the night sky and future observing sessions. You're guaranteed a warm welc
 ome\, so pop along and join them!
CATEGORIES:Society meeting
LOCATION:Station Seven Community Centre\, Quarry Street\, Johnstone\, Renfr
 ewshire\, PA5 8DY\, Scotland\, United Kingdom
GEO:55.834935;-4.51544
X-APPLE-STRUCTURED-LOCATION;VALUE=URI;X-ADDRESS=Quarry Street\, Johnstone\,
  Renfrewshire\, PA5 8DY\, Scotland\, United Kingdom;X-APPLE-RADIUS=100;X-T
 ITLE=Station Seven Community Centre:geo:55.834935,-4.51544
ORGANIZER;CN="Renfrewshire Astronomical Society":MAILTO:info@renfrewshireastro.co.uk
END:VEVENT
BEGIN:VEVENT
UID:67159@gostargazing.co.uk
DTSTART;TZID=Europe/London:20260707T190000
DTEND;TZID=Europe/London:20260707T210000
DTSTAMP:20251216T103733Z
URL:https://gostargazing.co.uk/events/renfrewshire-astronomical-society-me
 eting-2026-07-07/
SUMMARY:Renfrewshire Astronomical Society meeting
DESCRIPTION:Everyone interested in astronomy is welcome to join the friendl
 y members of the Renfrewshire Astronomical Society for their bi-weekly in-
 person meetings at Walkinshaw Community Centre (the group meets online via
  Zoom in between). \n\nThese sessions tend to be fairly informal and inclu
 de a discussion about the latest astronomy news\, what can be observed in 
 the night sky and future observing sessions. You're guaranteed a warm welc
 ome\, so pop along and join them!
CATEGORIES:Society meeting
LOCATION:Station Seven Community Centre\, Quarry Street\, Johnstone\, Renfr
 ewshire\, PA5 8DY\, Scotland\, United Kingdom
GEO:55.834935;-4.51544
X-APPLE-STRUCTURED-LOCATION;VALUE=URI;X-ADDRESS=Quarry Street\, Johnstone\,
  Renfrewshire\, PA5 8DY\, Scotland\, United Kingdom;X-APPLE-RADIUS=100;X-T
 ITLE=Station Seven Community Centre:geo:55.834935,-4.51544
ORGANIZER;CN="Renfrewshire Astronomical Society":MAILTO:info@renfrewshireastro.co.uk
END:VEVENT
BEGIN:VEVENT
UID:67160@gostargazing.co.uk
DTSTART;TZID=Europe/London:20260721T190000
DTEND;TZID=Europe/London:20260721T210000
DTSTAMP:20251216T103733Z
URL:https://gostargazing.co.uk/events/renfrewshire-astronomical-society-me
 eting-2026-07-21/
SUMMARY:Renfrewshire Astronomical Society meeting
DESCRIPTION:Everyone interested in astronomy is welcome to join the friendl
 y members of the Renfrewshire Astronomical Society for their bi-weekly in-
 person meetings at Walkinshaw Community Centre (the group meets online via
  Zoom in between). \n\nThese sessions tend to be fairly informal and inclu
 de a discussion about the latest astronomy news\, what can be observed in 
 the night sky and future observing sessions. You're guaranteed a warm welc
 ome\, so pop along and join them!
CATEGORIES:Society meeting
LOCATION:Station Seven Community Centre\, Quarry Street\, Johnstone\, Renfr
 ewshire\, PA5 8DY\, Scotland\, United Kingdom
GEO:55.834935;-4.51544
X-APPLE-STRUCTURED-LOCATION;VALUE=URI;X-ADDRESS=Quarry Street\, Johnstone\,
  Renfrewshire\, PA5 8DY\, Scotland\, United Kingdom;X-APPLE-RADIUS=100;X-T
 ITLE=Station Seven Community Centre:geo:55.834935,-4.51544
ORGANIZER;CN="Renfrewshire Astronomical Society":MAILTO:info@renfrewshireastro.co.uk
END:VEVENT
BEGIN:VEVENT
UID:67161@gostargazing.co.uk
DTSTART;TZID=Europe/London:20260804T190000
DTEND;TZID=Europe/London:20260804T210000
DTSTAMP:20251216T103733Z
URL:https://gostargazing.co.uk/events/renfrewshire-astronomical-society-me
 eting-2026-08-04/
SUMMARY:Renfrewshire Astronomical Society meeting
DESCRIPTION:Everyone interested in astronomy is welcome to join the friendl
 y members of the Renfrewshire Astronomical Society for their bi-weekly in-
 person meetings at Walkinshaw Community Centre (the group meets online via
  Zoom in between). \n\nThese sessions tend to be fairly informal and inclu
 de a discussion about the latest astronomy news\, what can be observed in 
 the night sky and future observing sessions. You're guaranteed a warm welc
 ome\, so pop along and join them!
CATEGORIES:Society meeting
LOCATION:Station Seven Community Centre\, Quarry Street\, Johnstone\, Renfr
 ewshire\, PA5 8DY\, Scotland\, United Kingdom
GEO:55.834935;-4.51544
X-APPLE-STRUCTURED-LOCATION;VALUE=URI;X-ADDRESS=Quarry Street\, Johnstone\,
  Renfrewshire\, PA5 8DY\, Scotland\, United Kingdom;X-APPLE-RADIUS=100;X-T
 ITLE=Station Seven Community Centre:geo:55.834935,-4.51544
ORGANIZER;CN="Renfrewshire Astronomical Society":MAILTO:info@renfrewshireastro.co.uk
END:VEVENT
BEGIN:VEVENT
UID:67162@gostargazing.co.uk
DTSTART;TZID=Europe/London:20260818T190000
DTEND;TZID=Europe/London:20260818T210000
DTSTAMP:20251216T103733Z
URL:https://gostargazing.co.uk/events/renfrewshire-astronomical-society-me
 eting-2026-08-18/
SUMMARY:Renfrewshire Astronomical Society meeting
DESCRIPTION:Everyone interested in astronomy is welcome to join the friendl
 y members of the Renfrewshire Astronomical Society for their bi-weekly in-
 person meetings at Walkinshaw Community Centre (the group meets online via
  Zoom in between). \n\nThese sessions tend to be fairly informal and inclu
 de a discussion about the latest astronomy news\, what can be observed in 
 the night sky and future observing sessions. You're guaranteed a warm welc
 ome\, so pop along and join them!
CATEGORIES:Society meeting
LOCATION:Station Seven Community Centre\, Quarry Street\, Johnstone\, Renfr
 ewshire\, PA5 8DY\, Scotland\, United Kingdom
GEO:55.834935;-4.51544
X-APPLE-STRUCTURED-LOCATION;VALUE=URI;X-ADDRESS=Quarry Street\, Johnstone\,
  Renfrewshire\, PA5 8DY\, Scotland\, United Kingdom;X-APPLE-RADIUS=100;X-T
 ITLE=Station Seven Community Centre:geo:55.834935,-4.51544
ORGANIZER;CN="Renfrewshire Astronomical Society":MAILTO:info@renfrewshireastro.co.uk
END:VEVENT
BEGIN:VEVENT
UID:67163@gostargazing.co.uk
DTSTART;TZID=Europe/London:20260901T190000
DTEND;TZID=Europe/London:20260901T210000
DTSTAMP:20251216T103733Z
URL:https://gostargazing.co.uk/events/renfrewshire-astronomical-society-me
 eting-2026-09-01/
SUMMARY:Renfrewshire Astronomical Society meeting
DESCRIPTION:Everyone interested in astronomy is welcome to join the friendl
 y members of the Renfrewshire Astronomical Society for their bi-weekly in-
 person meetings at Walkinshaw Community Centre (the group meets online via
  Zoom in between). \n\nThese sessions tend to be fairly informal and inclu
 de a discussion about the latest astronomy news\, what can be observed in 
 the night sky and future observing sessions. You're guaranteed a warm welc
 ome\, so pop along and join them!
CATEGORIES:Society meeting
LOCATION:Station Seven Community Centre\, Quarry Street\, Johnstone\, Renfr
 ewshire\, PA5 8DY\, Scotland\, United Kingdom
GEO:55.834935;-4.51544
X-APPLE-STRUCTURED-LOCATION;VALUE=URI;X-ADDRESS=Quarry Street\, Johnstone\,
  Renfrewshire\, PA5 8DY\, Scotland\, United Kingdom;X-APPLE-RADIUS=100;X-T
 ITLE=Station Seven Community Centre:geo:55.834935,-4.51544
ORGANIZER;CN="Renfrewshire Astronomical Society":MAILTO:info@renfrewshireastro.co.uk
END:VEVENT
BEGIN:VEVENT
UID:67164@gostargazing.co.uk
DTSTART;TZID=Europe/London:20260915T190000
DTEND;TZID=Europe/London:20260915T210000
DTSTAMP:20251216T103733Z
URL:https://gostargazing.co.uk/events/renfrewshire-astronomical-society-me
 eting-2026-09-15/
SUMMARY:Renfrewshire Astronomical Society meeting
DESCRIPTION:Everyone interested in astronomy is welcome to join the friendl
 y members of the Renfrewshire Astronomical Society for their bi-weekly in-
 person meetings at Walkinshaw Community Centre (the group meets online via
  Zoom in between). \n\nThese sessions tend to be fairly informal and inclu
 de a discussion about the latest astronomy news\, what can be observed in 
 the night sky and future observing sessions. You're guaranteed a warm welc
 ome\, so pop along and join them!
CATEGORIES:Society meeting
LOCATION:Station Seven Community Centre\, Quarry Street\, Johnstone\, Renfr
 ewshire\, PA5 8DY\, Scotland\, United Kingdom
GEO:55.834935;-4.51544
X-APPLE-STRUCTURED-LOCATION;VALUE=URI;X-ADDRESS=Quarry Street\, Johnstone\,
  Renfrewshire\, PA5 8DY\, Scotland\, United Kingdom;X-APPLE-RADIUS=100;X-T
 ITLE=Station Seven Community Centre:geo:55.834935,-4.51544
ORGANIZER;CN="Renfrewshire Astronomical Society":MAILTO:info@renfrewshireastro.co.uk
END:VEVENT
BEGIN:VEVENT
UID:67165@gostargazing.co.uk
DTSTART;TZID=Europe/London:20260929T190000
DTEND;TZID=Europe/London:20260929T210000
DTSTAMP:20251216T103733Z
URL:https://gostargazing.co.uk/events/renfrewshire-astronomical-society-me
 eting-2026-09-29/
SUMMARY:Renfrewshire Astronomical Society meeting
DESCRIPTION:Everyone interested in astronomy is welcome to join the friendl
 y members of the Renfrewshire Astronomical Society for their bi-weekly in-
 person meetings at Walkinshaw Community Centre (the group meets online via
  Zoom in between). \n\nThese sessions tend to be fairly informal and inclu
 de a discussion about the latest astronomy news\, what can be observed in 
 the night sky and future observing sessions. You're guaranteed a warm welc
 ome\, so pop along and join them!
CATEGORIES:Society meeting
LOCATION:Station Seven Community Centre\, Quarry Street\, Johnstone\, Renfr
 ewshire\, PA5 8DY\, Scotland\, United Kingdom
GEO:55.834935;-4.51544
X-APPLE-STRUCTURED-LOCATION;VALUE=URI;X-ADDRESS=Quarry Street\, Johnstone\,
  Renfrewshire\, PA5 8DY\, Scotland\, United Kingdom;X-APPLE-RADIUS=100;X-T
 ITLE=Station Seven Community Centre:geo:55.834935,-4.51544
ORGANIZER;CN="Renfrewshire Astronomical Society":MAILTO:info@renfrewshireastro.co.uk
END:VEVENT
BEGIN:VEVENT
UID:67166@gostargazing.co.uk
DTSTART;TZID=Europe/London:20261013T190000
DTEND;TZID=Europe/London:20261013T210000
DTSTAMP:20251216T103733Z
URL:https://gostargazing.co.uk/events/renfrewshire-astronomical-society-me
 eting-2026-10-13/
SUMMARY:Renfrewshire Astronomical Society meeting
DESCRIPTION:Everyone interested in astronomy is welcome to join the friendl
 y members of the Renfrewshire Astronomical Society for their bi-weekly in-
 person meetings at Walkinshaw Community Centre (the group meets online via
  Zoom in between). \n\nThese sessions tend to be fairly informal and inclu
 de a discussion about the latest astronomy news\, what can be observed in 
 the night sky and future observing sessions. You're guaranteed a warm welc
 ome\, so pop along and join them!
CATEGORIES:Society meeting
LOCATION:Station Seven Community Centre\, Quarry Street\, Johnstone\, Renfr
 ewshire\, PA5 8DY\, Scotland\, United Kingdom
GEO:55.834935;-4.51544
X-APPLE-STRUCTURED-LOCATION;VALUE=URI;X-ADDRESS=Quarry Street\, Johnstone\,
  Renfrewshire\, PA5 8DY\, Scotland\, United Kingdom;X-APPLE-RADIUS=100;X-T
 ITLE=Station Seven Community Centre:geo:55.834935,-4.51544
ORGANIZER;CN="Renfrewshire Astronomical Society":MAILTO:info@renfrewshireastro.co.uk
END:VEVENT
BEGIN:VEVENT
UID:67167@gostargazing.co.uk
DTSTART;TZID=Europe/London:20261027T190000
DTEND;TZID=Europe/London:20261027T210000
DTSTAMP:20251216T103733Z
URL:https://gostargazing.co.uk/events/renfrewshire-astronomical-society-me
 eting-2026-10-27/
SUMMARY:Renfrewshire Astronomical Society meeting
DESCRIPTION:Everyone interested in astronomy is welcome to join the friendl
 y members of the Renfrewshire Astronomical Society for their bi-weekly in-
 person meetings at Walkinshaw Community Centre (the group meets online via
  Zoom in between). \n\nThese sessions tend to be fairly informal and inclu
 de a discussion about the latest astronomy news\, what can be observed in 
 the night sky and future observing sessions. You're guaranteed a warm welc
 ome\, so pop along and join them!
CATEGORIES:Society meeting
LOCATION:Station Seven Community Centre\, Quarry Street\, Johnstone\, Renfr
 ewshire\, PA5 8DY\, Scotland\, United Kingdom
GEO:55.834935;-4.51544
X-APPLE-STRUCTURED-LOCATION;VALUE=URI;X-ADDRESS=Quarry Street\, Johnstone\,
  Renfrewshire\, PA5 8DY\, Scotland\, United Kingdom;X-APPLE-RADIUS=100;X-T
 ITLE=Station Seven Community Centre:geo:55.834935,-4.51544
ORGANIZER;CN="Renfrewshire Astronomical Society":MAILTO:info@renfrewshireastro.co.uk
END:VEVENT
BEGIN:VEVENT
UID:67168@gostargazing.co.uk
DTSTART;TZID=Europe/London:20261110T190000
DTEND;TZID=Europe/London:20261110T210000
DTSTAMP:20251216T103733Z
URL:https://gostargazing.co.uk/events/renfrewshire-astronomical-society-me
 eting-2026-11-10/
SUMMARY:Renfrewshire Astronomical Society meeting
DESCRIPTION:Everyone interested in astronomy is welcome to join the friendl
 y members of the Renfrewshire Astronomical Society for their bi-weekly in-
 person meetings at Walkinshaw Community Centre (the group meets online via
  Zoom in between). \n\nThese sessions tend to be fairly informal and inclu
 de a discussion about the latest astronomy news\, what can be observed in 
 the night sky and future observing sessions. You're guaranteed a warm welc
 ome\, so pop along and join them!
CATEGORIES:Society meeting
LOCATION:Station Seven Community Centre\, Quarry Street\, Johnstone\, Renfr
 ewshire\, PA5 8DY\, Scotland\, United Kingdom
GEO:55.834935;-4.51544
X-APPLE-STRUCTURED-LOCATION;VALUE=URI;X-ADDRESS=Quarry Street\, Johnstone\,
  Renfrewshire\, PA5 8DY\, Scotland\, United Kingdom;X-APPLE-RADIUS=100;X-T
 ITLE=Station Seven Community Centre:geo:55.834935,-4.51544
ORGANIZER;CN="Renfrewshire Astronomical Society":MAILTO:info@renfrewshireastro.co.uk
END:VEVENT
BEGIN:VEVENT
UID:67169@gostargazing.co.uk
DTSTART;TZID=Europe/London:20261124T190000
DTEND;TZID=Europe/London:20261124T210000
DTSTAMP:20251216T103733Z
URL:https://gostargazing.co.uk/events/renfrewshire-astronomical-society-me
 eting-2026-11-24/
SUMMARY:Renfrewshire Astronomical Society meeting
DESCRIPTION:Everyone interested in astronomy is welcome to join the friendl
 y members of the Renfrewshire Astronomical Society for their bi-weekly in-
 person meetings at Walkinshaw Community Centre (the group meets online via
  Zoom in between). \n\nThese sessions tend to be fairly informal and inclu
 de a discussion about the latest astronomy news\, what can be observed in 
 the night sky and future observing sessions. You're guaranteed a warm welc
 ome\, so pop along and join them!
CATEGORIES:Society meeting
LOCATION:Station Seven Community Centre\, Quarry Street\, Johnstone\, Renfr
 ewshire\, PA5 8DY\, Scotland\, United Kingdom
GEO:55.834935;-4.51544
X-APPLE-STRUCTURED-LOCATION;VALUE=URI;X-ADDRESS=Quarry Street\, Johnstone\,
  Renfrewshire\, PA5 8DY\, Scotland\, United Kingdom;X-APPLE-RADIUS=100;X-T
 ITLE=Station Seven Community Centre:geo:55.834935,-4.51544
ORGANIZER;CN="Renfrewshire Astronomical Society":MAILTO:info@renfrewshireastro.co.uk
END:VEVENT
BEGIN:VEVENT
UID:67170@gostargazing.co.uk
DTSTART;TZID=Europe/London:20261208T190000
DTEND;TZID=Europe/London:20261208T210000
DTSTAMP:20251216T103733Z
URL:https://gostargazing.co.uk/events/renfrewshire-astronomical-society-me
 eting-2026-12-08/
SUMMARY:Renfrewshire Astronomical Society meeting
DESCRIPTION:Everyone interested in astronomy is welcome to join the friendl
 y members of the Renfrewshire Astronomical Society for their bi-weekly in-
 person meetings at Walkinshaw Community Centre (the group meets online via
  Zoom in between). \n\nThese sessions tend to be fairly informal and inclu
 de a discussion about the latest astronomy news\, what can be observed in 
 the night sky and future observing sessions. You're guaranteed a warm welc
 ome\, so pop along and join them!
CATEGORIES:Society meeting
LOCATION:Station Seven Community Centre\, Quarry Street\, Johnstone\, Renfr
 ewshire\, PA5 8DY\, Scotland\, United Kingdom
GEO:55.834935;-4.51544
X-APPLE-STRUCTURED-LOCATION;VALUE=URI;X-ADDRESS=Quarry Street\, Johnstone\,
  Renfrewshire\, PA5 8DY\, Scotland\, United Kingdom;X-APPLE-RADIUS=100;X-T
 ITLE=Station Seven Community Centre:geo:55.834935,-4.51544
ORGANIZER;CN="Renfrewshire Astronomical Society":MAILTO:info@renfrewshireastro.co.uk
END:VEVENT
BEGIN:VEVENT
UID:67171@gostargazing.co.uk
DTSTART;TZID=Europe/London:20261222T190000
DTEND;TZID=Europe/London:20261222T210000
DTSTAMP:20251216T103733Z
URL:https://gostargazing.co.uk/events/renfrewshire-astronomical-society-me
 eting-2026-12-22/
SUMMARY:Renfrewshire Astronomical Society meeting
DESCRIPTION:Everyone interested in astronomy is welcome to join the friendl
 y members of the Renfrewshire Astronomical Society for their bi-weekly in-
 person meetings at Walkinshaw Community Centre (the group meets online via
  Zoom in between). \n\nThese sessions tend to be fairly informal and inclu
 de a discussion about the latest astronomy news\, what can be observed in 
 the night sky and future observing sessions. You're guaranteed a warm welc
 ome\, so pop along and join them!
CATEGORIES:Society meeting
LOCATION:Station Seven Community Centre\, Quarry Street\, Johnstone\, Renfr
 ewshire\, PA5 8DY\, Scotland\, United Kingdom
GEO:55.834935;-4.51544
X-APPLE-STRUCTURED-LOCATION;VALUE=URI;X-ADDRESS=Quarry Street\, Johnstone\,
  Renfrewshire\, PA5 8DY\, Scotland\, United Kingdom;X-APPLE-RADIUS=100;X-T
 ITLE=Station Seven Community Centre:geo:55.834935,-4.51544
ORGANIZER;CN="Renfrewshire Astronomical Society":MAILTO:info@renfrewshireastro.co.uk
END:VEVENT
BEGIN:VTIMEZONE
TZID:Europe/London
X-LIC-LOCATION:Europe/London
BEGIN:DAYLIGHT
DTSTART:20260329T020000
TZOFFSETFROM:+0000
TZOFFSETTO:+0100
TZNAME:BST
END:DAYLIGHT
BEGIN:STANDARD
DTSTART:20261025T010000
TZOFFSETFROM:+0100
TZOFFSETTO:+0000
TZNAME:GMT
END:STANDARD
END:VTIMEZONE
END:VCALENDAR