BEGIN:VCALENDAR
VERSION:2.0
PRODID:-//wp-events-plugin.com//7.2.3.1//EN
TZID:Europe/London
X-WR-TIMEZONE:Europe/London
BEGIN:VEVENT
UID:65607@gostargazing.co.uk
DTSTART;TZID=Europe/London:20260808T120000
DTEND;TZID=Europe/London:20260821T120000
DTSTAMP:20251101T174105Z
URL:https://gostargazing.co.uk/events/solar-eclipse-at-sea-with-wils-cruis
 es/
SUMMARY:Solar Eclipse at Sea with Wil's Cruises
DESCRIPTION:Join astronomer\, astrophotographer\, aurora and eclipse-chaser
  Wil from Wil Photography for a once-in-a-lifetime cruise off the coast of
  Greenland to witness the total solar eclipse on 12 August 2026\, which co
 incides with the spectacular Perseid meteor shower. \n\nThis unique event 
 offers the rare chance to see and photograph shooting stars during the day
  and possibly even the Northern Lights during totality. \n\nGuests will sa
 il with Ambassador Cruise Lines on a special part-charter\, enjoying all t
 he comforts of a luxury cruise alongside exclusive access to Wil Photograp
 hy and a team of expert astronomers. \n\nThroughout the voyage\, participa
 nts can attend talks and workshops on capturing the eclipse\, meteors\, an
 d Iceland’s stunning scenery\, as well as share unforgettable stargazing
  experiences on deck. \n\nSpaces are limited\, and bookings must be made t
 hrough the Wil Photography Experience link on the Ambassador website.\n\nF
 or more details regarding this cruise including a full itinerary\, see the
  Wil's Cruises website.\n\n
ATTACH;FMTTYPE=image/jpeg:https://gostargazing.co.uk/wp-content/uploads/20
 23/11/Solar_eclipse_1999_4.jpg
CATEGORIES:Stargazing cruise
LOCATION:Dundee Cruise Terminal\, King George V Wharf Road\, Dundee\, Angus
 \, DD1 3LG\, Scotland\, United Kingdom
GEO:56.463953;-2.94738
X-APPLE-STRUCTURED-LOCATION;VALUE=URI;X-ADDRESS=King George V Wharf Road\, 
 Dundee\, Angus\, DD1 3LG\, Scotland\, United Kingdom;X-APPLE-RADIUS=100;X-
 TITLE=Dundee Cruise Terminal:geo:56.463953,-2.94738
ORGANIZER;CN="Wil's Cruises":MAILTO:info@wilscruises.com
END:VEVENT
BEGIN:VTIMEZONE
TZID:Europe/London
X-LIC-LOCATION:Europe/London
BEGIN:DAYLIGHT
DTSTART:20260329T020000
TZOFFSETFROM:+0000
TZOFFSETTO:+0100
TZNAME:BST
END:DAYLIGHT
END:VTIMEZONE
END:VCALENDAR