BEGIN:VCALENDAR
VERSION:2.0
PRODID:-//wp-events-plugin.com//7.2.3.1//EN
TZID:Europe/London
X-WR-TIMEZONE:Europe/London
BEGIN:VEVENT
UID:69871@gostargazing.co.uk
DTSTART;TZID=Europe/London:20261006T193000
DTEND;TZID=Europe/London:20261006T210000
DTSTAMP:20260308T093935Z
URL:https://gostargazing.co.uk/events/moffat-astronomy-club-meeting-2026-1
 0-06/
SUMMARY:Moffat Astronomy Club meeting
DESCRIPTION:Join the friendly members of the Moffat Astronomy Club for thei
 r monthly club meeting held virtually online via Zoom. These sessions take
  place on the second Tuesday of each month and include an informal present
 ation or talk on an astronomical topic. The meeting also offers a way to l
 earn more about the club and their lovely nearby observatory.
ATTACH;FMTTYPE=image/jpeg:https://gostargazing.co.uk/wp-content/uploads/20
 22/08/proudfoot-institute-moffat.jpeg
CATEGORIES:Society meeting
LOCATION:Proudfoot Institute - Moffat\, Mansfield Place\, Moffat\, Dumfries
 shire\, DG10 9DS\, United Kingdom
GEO:55.332797;-3.441895
X-APPLE-STRUCTURED-LOCATION;VALUE=URI;X-ADDRESS=Mansfield Place\, Moffat\, 
 Dumfriesshire\, DG10 9DS\, United Kingdom;X-APPLE-RADIUS=100;X-TITLE=Proud
 foot Institute - Moffat:geo:55.332797,-3.441895
ORGANIZER;CN="Moffat Astronomy Club":MAILTO:moffatastro@gmail.com
END:VEVENT
BEGIN:VEVENT
UID:69872@gostargazing.co.uk
DTSTART;TZID=Europe/London:20261103T193000
DTEND;TZID=Europe/London:20261103T210000
DTSTAMP:20260308T093935Z
URL:https://gostargazing.co.uk/events/moffat-astronomy-club-meeting-2026-1
 0-06-2026-11-03/
SUMMARY:Moffat Astronomy Club meeting
DESCRIPTION:Join the friendly members of the Moffat Astronomy Club for thei
 r monthly club meeting held virtually online via Zoom. These sessions take
  place on the second Tuesday of each month and include an informal present
 ation or talk on an astronomical topic. The meeting also offers a way to l
 earn more about the club and their lovely nearby observatory.
ATTACH;FMTTYPE=image/jpeg:https://gostargazing.co.uk/wp-content/uploads/20
 22/08/proudfoot-institute-moffat.jpeg
CATEGORIES:Society meeting
LOCATION:Proudfoot Institute - Moffat\, Mansfield Place\, Moffat\, Dumfries
 shire\, DG10 9DS\, United Kingdom
GEO:55.332797;-3.441895
X-APPLE-STRUCTURED-LOCATION;VALUE=URI;X-ADDRESS=Mansfield Place\, Moffat\, 
 Dumfriesshire\, DG10 9DS\, United Kingdom;X-APPLE-RADIUS=100;X-TITLE=Proud
 foot Institute - Moffat:geo:55.332797,-3.441895
ORGANIZER;CN="Moffat Astronomy Club":MAILTO:moffatastro@gmail.com
END:VEVENT
BEGIN:VEVENT
UID:69873@gostargazing.co.uk
DTSTART;TZID=Europe/London:20261201T193000
DTEND;TZID=Europe/London:20261201T210000
DTSTAMP:20260308T093935Z
URL:https://gostargazing.co.uk/events/moffat-astronomy-club-meeting-2026-1
 0-06-2026-11-03-2026-12-01/
SUMMARY:Moffat Astronomy Club meeting
DESCRIPTION:Join the friendly members of the Moffat Astronomy Club for thei
 r monthly club meeting held virtually online via Zoom. These sessions take
  place on the second Tuesday of each month and include an informal present
 ation or talk on an astronomical topic. The meeting also offers a way to l
 earn more about the club and their lovely nearby observatory.
ATTACH;FMTTYPE=image/jpeg:https://gostargazing.co.uk/wp-content/uploads/20
 22/08/proudfoot-institute-moffat.jpeg
CATEGORIES:Society meeting
LOCATION:Proudfoot Institute - Moffat\, Mansfield Place\, Moffat\, Dumfries
 shire\, DG10 9DS\, United Kingdom
GEO:55.332797;-3.441895
X-APPLE-STRUCTURED-LOCATION;VALUE=URI;X-ADDRESS=Mansfield Place\, Moffat\, 
 Dumfriesshire\, DG10 9DS\, United Kingdom;X-APPLE-RADIUS=100;X-TITLE=Proud
 foot Institute - Moffat:geo:55.332797,-3.441895
ORGANIZER;CN="Moffat Astronomy Club":MAILTO:moffatastro@gmail.com
END:VEVENT
BEGIN:VEVENT
UID:69874@gostargazing.co.uk
DTSTART;TZID=Europe/London:20270105T193000
DTEND;TZID=Europe/London:20270105T210000
DTSTAMP:20260308T093935Z
URL:https://gostargazing.co.uk/events/moffat-astronomy-club-meeting-2026-1
 0-06-2026-11-03-2026-12-01-2027-01-05/
SUMMARY:Moffat Astronomy Club meeting
DESCRIPTION:Join the friendly members of the Moffat Astronomy Club for thei
 r monthly club meeting held virtually online via Zoom. These sessions take
  place on the second Tuesday of each month and include an informal present
 ation or talk on an astronomical topic. The meeting also offers a way to l
 earn more about the club and their lovely nearby observatory.
ATTACH;FMTTYPE=image/jpeg:https://gostargazing.co.uk/wp-content/uploads/20
 22/08/proudfoot-institute-moffat.jpeg
CATEGORIES:Society meeting
LOCATION:Proudfoot Institute - Moffat\, Mansfield Place\, Moffat\, Dumfries
 shire\, DG10 9DS\, United Kingdom
GEO:55.332797;-3.441895
X-APPLE-STRUCTURED-LOCATION;VALUE=URI;X-ADDRESS=Mansfield Place\, Moffat\, 
 Dumfriesshire\, DG10 9DS\, United Kingdom;X-APPLE-RADIUS=100;X-TITLE=Proud
 foot Institute - Moffat:geo:55.332797,-3.441895
ORGANIZER;CN="Moffat Astronomy Club":MAILTO:moffatastro@gmail.com
END:VEVENT
BEGIN:VEVENT
UID:69875@gostargazing.co.uk
DTSTART;TZID=Europe/London:20270202T193000
DTEND;TZID=Europe/London:20270202T210000
DTSTAMP:20260308T093935Z
URL:https://gostargazing.co.uk/events/moffat-astronomy-club-meeting-2026-1
 0-06-2026-11-03-2026-12-01-2027-01-05-2027-02-02/
SUMMARY:Moffat Astronomy Club meeting
DESCRIPTION:Join the friendly members of the Moffat Astronomy Club for thei
 r monthly club meeting held virtually online via Zoom. These sessions take
  place on the second Tuesday of each month and include an informal present
 ation or talk on an astronomical topic. The meeting also offers a way to l
 earn more about the club and their lovely nearby observatory.
ATTACH;FMTTYPE=image/jpeg:https://gostargazing.co.uk/wp-content/uploads/20
 22/08/proudfoot-institute-moffat.jpeg
CATEGORIES:Society meeting
LOCATION:Proudfoot Institute - Moffat\, Mansfield Place\, Moffat\, Dumfries
 shire\, DG10 9DS\, United Kingdom
GEO:55.332797;-3.441895
X-APPLE-STRUCTURED-LOCATION;VALUE=URI;X-ADDRESS=Mansfield Place\, Moffat\, 
 Dumfriesshire\, DG10 9DS\, United Kingdom;X-APPLE-RADIUS=100;X-TITLE=Proud
 foot Institute - Moffat:geo:55.332797,-3.441895
ORGANIZER;CN="Moffat Astronomy Club":MAILTO:moffatastro@gmail.com
END:VEVENT
BEGIN:VEVENT
UID:69876@gostargazing.co.uk
DTSTART;TZID=Europe/London:20270302T193000
DTEND;TZID=Europe/London:20270302T210000
DTSTAMP:20260308T093935Z
URL:https://gostargazing.co.uk/events/moffat-astronomy-club-meeting-2026-1
 0-06-2026-11-03-2026-12-01-2027-01-05-2027-02-02-2027-03-02/
SUMMARY:Moffat Astronomy Club meeting
DESCRIPTION:Join the friendly members of the Moffat Astronomy Club for thei
 r monthly club meeting held virtually online via Zoom. These sessions take
  place on the second Tuesday of each month and include an informal present
 ation or talk on an astronomical topic. The meeting also offers a way to l
 earn more about the club and their lovely nearby observatory.
ATTACH;FMTTYPE=image/jpeg:https://gostargazing.co.uk/wp-content/uploads/20
 22/08/proudfoot-institute-moffat.jpeg
CATEGORIES:Society meeting
LOCATION:Proudfoot Institute - Moffat\, Mansfield Place\, Moffat\, Dumfries
 shire\, DG10 9DS\, United Kingdom
GEO:55.332797;-3.441895
X-APPLE-STRUCTURED-LOCATION;VALUE=URI;X-ADDRESS=Mansfield Place\, Moffat\, 
 Dumfriesshire\, DG10 9DS\, United Kingdom;X-APPLE-RADIUS=100;X-TITLE=Proud
 foot Institute - Moffat:geo:55.332797,-3.441895
ORGANIZER;CN="Moffat Astronomy Club":MAILTO:moffatastro@gmail.com
END:VEVENT
BEGIN:VTIMEZONE
TZID:Europe/London
X-LIC-LOCATION:Europe/London
BEGIN:DAYLIGHT
DTSTART:20260329T020000
TZOFFSETFROM:+0000
TZOFFSETTO:+0100
TZNAME:BST
END:DAYLIGHT
BEGIN:STANDARD
DTSTART:20261025T010000
TZOFFSETFROM:+0100
TZOFFSETTO:+0000
TZNAME:GMT
END:STANDARD
END:VTIMEZONE
END:VCALENDAR