BEGIN:VCALENDAR
VERSION:2.0
PRODID:-//wp-events-plugin.com//7.2.3.1//EN
TZID:Europe/London
X-WR-TIMEZONE:Europe/London
BEGIN:VEVENT
UID:69766@gostargazing.co.uk
DTSTART;TZID=Europe/London:20260812T180000
DTEND;TZID=Europe/London:20260812T203000
DTSTAMP:20260209T120120Z
URL:https://gostargazing.co.uk/events/partial-solar-eclipse-viewing-with-t
 he-wells-and-mendip-astronomers/
SUMMARY:Partial solar eclipse viewing with the Wells and Mendip Astronomers
DESCRIPTION:Families are invited to join members of Wells & Mendip Astronom
 ers on the Wells Cathedral Green on Wednesday 12th August from 6.00pm to 8
 .30pm for a safe and fascinating look at our nearest star\, the Sun.\n\nTh
 is free event allows visitors to drop in and use a range of specially adap
 ted telescopes\, enabling you to observe the Sun safely without risk to yo
 ur eyesight. With guidance from experienced astronomers\, you will be able
  to see sunspots\, faculae\, filaments\, and dramatic solar prominences.\n
 \nThe event is weather dependent.
ATTACH;FMTTYPE=image/jpeg:https://gostargazing.co.uk/wp-content/uploads/20
 26/02/partial-solar-eclipse-2026-banner.jpg
CATEGORIES:Solar observing
LOCATION:Wells Cathedral\, Cathedral Green\, Wells\, Somerset\, BA5 2UE\, U
 nited Kingdom
GEO:51.210286;-2.6446
X-APPLE-STRUCTURED-LOCATION;VALUE=URI;X-ADDRESS=Cathedral Green\, Wells\, S
 omerset\, BA5 2UE\, United Kingdom;X-APPLE-RADIUS=100;X-TITLE=Wells Cathed
 ral:geo:51.210286,-2.6446
ORGANIZER;CN="Wells &amp; Mendip Astronomers":MAILTO:wellsmendipastro@gmail.com
END:VEVENT
BEGIN:VTIMEZONE
TZID:Europe/London
X-LIC-LOCATION:Europe/London
BEGIN:DAYLIGHT
DTSTART:20260329T020000
TZOFFSETFROM:+0000
TZOFFSETTO:+0100
TZNAME:BST
END:DAYLIGHT
END:VTIMEZONE
END:VCALENDAR